BEGIN:VCALENDAR
VERSION:2.0
PRODID:-//Blackstone Gun Safety Nevada - ECPv6.15.20//NONSGML v1.0//EN
CALSCALE:GREGORIAN
METHOD:PUBLISH
X-ORIGINAL-URL:https://bgsnevada.com
X-WR-CALDESC:Events for Blackstone Gun Safety Nevada
REFRESH-INTERVAL;VALUE=DURATION:PT1H
X-Robots-Tag:noindex
X-PUBLISHED-TTL:PT1H
BEGIN:VTIMEZONE
TZID:America/Los_Angeles
BEGIN:DAYLIGHT
TZOFFSETFROM:-0800
TZOFFSETTO:-0700
TZNAME:PDT
DTSTART:20250309T100000
END:DAYLIGHT
BEGIN:STANDARD
TZOFFSETFROM:-0700
TZOFFSETTO:-0800
TZNAME:PST
DTSTART:20251102T090000
END:STANDARD
BEGIN:DAYLIGHT
TZOFFSETFROM:-0800
TZOFFSETTO:-0700
TZNAME:PDT
DTSTART:20260308T100000
END:DAYLIGHT
BEGIN:STANDARD
TZOFFSETFROM:-0700
TZOFFSETTO:-0800
TZNAME:PST
DTSTART:20261101T090000
END:STANDARD
BEGIN:DAYLIGHT
TZOFFSETFROM:-0800
TZOFFSETTO:-0700
TZNAME:PDT
DTSTART:20270314T100000
END:DAYLIGHT
BEGIN:STANDARD
TZOFFSETFROM:-0700
TZOFFSETTO:-0800
TZNAME:PST
DTSTART:20271107T090000
END:STANDARD
END:VTIMEZONE
BEGIN:VEVENT
DTSTART;TZID=America/Los_Angeles:20260110T090000
DTEND;TZID=America/Los_Angeles:20260110T140000
DTSTAMP:20260419T055139
CREATED:20251008T011807Z
LAST-MODIFIED:20251207T213528Z
UID:1678-1768035600-1768053600@bgsnevada.com
SUMMARY:Basic Handgun Class
DESCRIPTION:Purchasing a handgun and then getting your CCW does not mean you are ready to protect yourself or a loved one.  Sadly\, many people think that’s all they need so that’s all they do.  They are wrong. \nA person needs professional training\, and then you need to practice what you have been taught. There are many companies that offer this kind of training all over the country and the prices and attitudes vary a lot. \nMy wife and I are NRA Certified Pistol Instructors\, and we have a great staff. We teach CCW classes as well as live fire classes.  Many times\, when I ask a student when was the last time you were shooting\, the answer I get back is\, “When I got my CCW permit”.  In Nevada that was 5 years ago. We have seen a lot of people that have qualified for their CCW and yet they are not comfortable or proficient with their gun. \nShooting is a very perishable skill; it goes away quite quickly. It’s not like riding a bike. A person who carries a gun should be at the range at least once a month shooting a box of ammo but\, it’s no help if you’re practicing poor habits or your accuracy is not improving. \nIf you are a relatively new shooter\, I would recommend you take our Basic Handgun Course. It’s a one-day class that is about 4-5 hours.  We will give you a good foundation for you to build on.  We will teach you to draw and holster safely\, how to deal with malfunctions and how to shoot accurately.  The cost is only $150. \nAfter you have taken this class\, you can move on to our 2-Day Defensive Handgun Class. \nFor more information go to BGSnevada.com or give us a call 775-990-9393. \n************************* \nWhat you will need for the Basic Handgun Course: \nYour gun: preferably a semi-auto .380 – .45ACP \nAt least 3 standard magazines (more is better) and a double mag holder or 2 singles. \nA holster fitted to your gun that covers the trigger and trigger guard and stays open when the gun is removed. \nA sturdy belt to support your gun and magazines. \nHolsters are OWB and mag pouches on the support side. No cross-draw\, ankle\, shoulder or IWB holsters. \nElectronic hearing protection – you need to hear me with your hearing protection on. \nPants with pockets (cargo pants are ideal). \nComfortable closed toe shoes or boots. No flip-flops or sandals. \nEye protection and a brimmed hat. \n300 rounds of ammo. You will most likely go home with some. \nGloves and dump pouch are recommended. \nDo not wear low cut shirt or blouse. Hot brass will be flying around.
URL:https://bgsnevada.com/class/basic-handgun-class/
LOCATION:Bell Vista Shooting Area\, 5 miles w of Leslie and Bell Vista\, Pahrump\, NV\, 89060\, United States
END:VEVENT
END:VCALENDAR