BEGIN:VCALENDAR
VERSION:2.0
PRODID:-//Blackstone Gun Safety Nevada - ECPv6.15.20//NONSGML v1.0//EN
CALSCALE:GREGORIAN
METHOD:PUBLISH
X-ORIGINAL-URL:https://bgsnevada.com
X-WR-CALDESC:Events for Blackstone Gun Safety Nevada
REFRESH-INTERVAL;VALUE=DURATION:PT1H
X-Robots-Tag:noindex
X-PUBLISHED-TTL:PT1H
BEGIN:VTIMEZONE
TZID:America/Los_Angeles
BEGIN:DAYLIGHT
TZOFFSETFROM:-0800
TZOFFSETTO:-0700
TZNAME:PDT
DTSTART:20180311T100000
END:DAYLIGHT
BEGIN:STANDARD
TZOFFSETFROM:-0700
TZOFFSETTO:-0800
TZNAME:PST
DTSTART:20181104T090000
END:STANDARD
BEGIN:DAYLIGHT
TZOFFSETFROM:-0800
TZOFFSETTO:-0700
TZNAME:PDT
DTSTART:20190310T100000
END:DAYLIGHT
BEGIN:STANDARD
TZOFFSETFROM:-0700
TZOFFSETTO:-0800
TZNAME:PST
DTSTART:20191103T090000
END:STANDARD
BEGIN:DAYLIGHT
TZOFFSETFROM:-0800
TZOFFSETTO:-0700
TZNAME:PDT
DTSTART:20200308T100000
END:DAYLIGHT
BEGIN:STANDARD
TZOFFSETFROM:-0700
TZOFFSETTO:-0800
TZNAME:PST
DTSTART:20201101T090000
END:STANDARD
BEGIN:DAYLIGHT
TZOFFSETFROM:-0800
TZOFFSETTO:-0700
TZNAME:PDT
DTSTART:20210314T100000
END:DAYLIGHT
BEGIN:STANDARD
TZOFFSETFROM:-0700
TZOFFSETTO:-0800
TZNAME:PST
DTSTART:20211107T090000
END:STANDARD
END:VTIMEZONE
BEGIN:VEVENT
DTSTART;TZID=America/Los_Angeles:20200530T090000
DTEND;TZID=America/Los_Angeles:20200530T180000
DTSTAMP:20260419T073653
CREATED:20200323T190249Z
LAST-MODIFIED:20200428T234004Z
UID:544-1590829200-1590861600@bgsnevada.com
SUMMARY:CCW Class in Pahrump
DESCRIPTION:Our class exceeds the requirements for Nevada\, Arizona\, and Oregon. \nNevada requires this class to be a minimum of 8 hours. Block out 9-10 hours to be safe. \nEnter the lot behind the Pour House off of Postal Road near the car wash. There is limited parking at the club house so you will need to park by the car wash and make the short walk up to the club house. Please keep the club house parking for the handicapped. \nNo Children are allowed in Class. \nWhen you leave our class you’ll have everything you need to apply for the Nevada licenses except for the fee to Nevada. \nItems you will need to bring to class: \nYour Gun … UNLOADED and in a case.\n3 magazines if you have them\n50 rounds of ammunition. NO RELOADS.\nHearing protection\nSafety glasses\nA strong belt with a holster that covers the trigger and trigger guard (no shoulder holsters or cross draw)\nMag pouch\nYour government issue pictured ID. (Driver’s license) \nYou may eat your lunch while the class is going. \nRenewals and HR218 need to be at the shooting area at 12:00 noon. Call for location. \nNon-Residents getting the Arizona do not bring a gun. Your class will be from 9:00 till noon. \nIf you’re having a hard time registering here please call us 775-237-2044.
URL:https://bgsnevada.com/class/concealed-carry-class-in-pahrump-2/
LOCATION:Blackstone House\, 1451 Gee St\, Pahrump\, NV\, 89060\, United States
ORGANIZER;CN="Dan Blackstone":MAILTO:dan@blackstonegunsafety.com
END:VEVENT
BEGIN:VEVENT
DTSTART;TZID=America/Los_Angeles:20200507T090000
DTEND;TZID=America/Los_Angeles:20200507T180000
DTSTAMP:20260419T073653
CREATED:20200228T003828Z
LAST-MODIFIED:20200429T151812Z
UID:509-1588842000-1588874400@bgsnevada.com
SUMMARY:Concealed Carry Class in Pahrump - CLASS IS FULL
DESCRIPTION:Our class exceeds the requirements for Nevada\, Arizona\, and Oregon. \nNevada requires this class to be a minimum of 8 hours. Block out 9-10 hours to be safe. \nEnter the lot behind the Pour House off of Postal Road near the car wash. There is limited parking at the club house so you will need to park by the car wash and make the short walk up to the club house. Please keep the club house parking for the handicapped. \nNo Children are allowed in Class. \nWhen you leave our class you’ll have everything you need to apply for the Nevada licenses except for the fee to Nevada. \nItems you will need to bring to class:\nYour Gun … UNLOADED and in a case.\n3 magazines if you have them\n50 rounds of ammunition. NO RELOADS.\nHearing protection\nSafety glasses\nA strong belt with a holster that covers the trigger and trigger guard (no shoulder holsters or cross draw)\nMag pouch\nYour government issue pictured ID. (Driver’s license) \nYou may eat your lunch while the class is going. \nRenewals and HR218 need to be at the shooting area at 12:00 noon. Call for location. \nNon-Residents getting the Arizona do not bring a gun. Your class will be from 9:00 till noon. \nIf you’re having a hard time registering here please call us 775-237-2044.
URL:https://bgsnevada.com/class/april-ccw-class-in-pahrump/
LOCATION:Blackstone House\, 1451 Gee St\, Pahrump\, NV\, 89060\, United States
ORGANIZER;CN="Dan Blackstone":MAILTO:dan@blackstonegunsafety.com
END:VEVENT
BEGIN:VEVENT
DTSTART;TZID=America/Los_Angeles:20191221T090000
DTEND;TZID=America/Los_Angeles:20191221T180000
DTSTAMP:20260419T073653
CREATED:20190930T211007Z
LAST-MODIFIED:20191120T213943Z
UID:219-1576918800-1576951200@bgsnevada.com
SUMMARY:December CCW class is FULL
DESCRIPTION:Our class exceeds the requirements for Nevada\, Arizona\, and Oregon. \nNevada requires this class to be a minimum of 8 hours. Block out 9-10 hours to be safe. \nEnter the lot behind the Pour House off of Postal Road near the car wash. There is limited parking at the club house so you will need to park by the car wash and make the short walk up to the club house. Please keep the club house parking for the handicapped. \nLATE ARRIVALS WILL BE TURNED AWAY. \nNo Children are allowed in Class. \nWhen you leave our class you’ll have everything you need to apply for the Nevada licenses except for the fee to Nevada. \nItems you will need to bring to class: \nYour Gun … UNLOADED and in a case.\n3 magazines if you have them\n50 rounds of ammunition. NO RELOADS\nHearing protection\nSafety glasses\nHolster and Mag pouch\nShooting gloves are a nice addition \nRenewals and HR218 need to be at the shooting area at 12-12:30.  Call for location. \nNon-Residents taking the Arizona do not need to bring a gun.  Your class will be from 9:00 to 12:00 \n 
URL:https://bgsnevada.com/class/december-ccw-class-in-pahrump/
LOCATION:Blackstone House\, 1451 Gee St\, Pahrump\, NV\, 89060\, United States
ORGANIZER;CN="Dan Blackstone":MAILTO:dan@blackstonegunsafety.com
END:VEVENT
BEGIN:VEVENT
DTSTART;TZID=America/Los_Angeles:20191019T090000
DTEND;TZID=America/Los_Angeles:20191019T140000
DTSTAMP:20260419T073653
CREATED:20190924T155501Z
LAST-MODIFIED:20190930T204300Z
UID:117-1571475600-1571493600@bgsnevada.com
SUMMARY:October CCW class in Pahrump - CLASS IS FULL
DESCRIPTION:We are presently teaching one class that exceeds the requirements for Arizona\, Oregon and Utah. Each of these permits is good in NEVADA and about 35 other states. So\, yes you will be able to carry concealed in Nevada without a Nevada license. \nThis is a 4 hour class and does not require shooting. Block out 5 hours to be safe. \nNOTE: You cannot get the Utah permit unless you already possess the Nevada license. \nIt is not necessary for you to bring a gun to class. If you already have your Nevada permit and are adding the others feel free to carry in class\, but please keep it concealed. \nEnter the Best Western off of Postal Road near the car wash. Parking will be there and you will need to walk to the club house. \nLATE ARRIVALS WILL BE TURNED AWAY.              \nNo children will be allowed in the classroom.
URL:https://bgsnevada.com/class/concealed-carry-class-in-pahrump/
LOCATION:Blackstone House\, 1451 Gee St\, Pahrump\, NV\, 89060\, United States
ORGANIZER;CN="Dan Blackstone":MAILTO:dan@blackstonegunsafety.com
END:VEVENT
END:VCALENDAR