BEGIN:VCALENDAR
VERSION:2.0
PRODID:-//Blackstone Gun Safety Nevada - ECPv6.15.20//NONSGML v1.0//EN
CALSCALE:GREGORIAN
METHOD:PUBLISH
X-ORIGINAL-URL:https://bgsnevada.com
X-WR-CALDESC:Events for Blackstone Gun Safety Nevada
REFRESH-INTERVAL;VALUE=DURATION:PT1H
X-Robots-Tag:noindex
X-PUBLISHED-TTL:PT1H
BEGIN:VTIMEZONE
TZID:America/Los_Angeles
BEGIN:DAYLIGHT
TZOFFSETFROM:-0800
TZOFFSETTO:-0700
TZNAME:PDT
DTSTART:20250309T100000
END:DAYLIGHT
BEGIN:STANDARD
TZOFFSETFROM:-0700
TZOFFSETTO:-0800
TZNAME:PST
DTSTART:20251102T090000
END:STANDARD
BEGIN:DAYLIGHT
TZOFFSETFROM:-0800
TZOFFSETTO:-0700
TZNAME:PDT
DTSTART:20260308T100000
END:DAYLIGHT
BEGIN:STANDARD
TZOFFSETFROM:-0700
TZOFFSETTO:-0800
TZNAME:PST
DTSTART:20261101T090000
END:STANDARD
BEGIN:DAYLIGHT
TZOFFSETFROM:-0800
TZOFFSETTO:-0700
TZNAME:PDT
DTSTART:20270314T100000
END:DAYLIGHT
BEGIN:STANDARD
TZOFFSETFROM:-0700
TZOFFSETTO:-0800
TZNAME:PST
DTSTART:20271107T090000
END:STANDARD
END:VTIMEZONE
BEGIN:VEVENT
DTSTART;TZID=America/Los_Angeles:20260808T090000
DTEND;TZID=America/Los_Angeles:20260808T180000
DTSTAMP:20260419T090133
CREATED:20260310T221827Z
LAST-MODIFIED:20260401T154800Z
UID:1769-1786179600-1786212000@bgsnevada.com
SUMMARY:Nevada CCW in Pahrump
DESCRIPTION:Class will start at 9:00 AM sharp.  8:30 – 9:00 is check in. At the Bell Vista Shooting area. We will be doing the shooting in the morning because of the summer heat. \nNo children are allowed in class. \nPlease make sure you bring your gun unloaded and in your holster\, your holster must cover the trigger and trigger guard. Have a belt that will support your gun and holster. 3 mags would be ideal and a mag holder. Make sure you have hearing protection and safety glasses. 30 rounds of ammo is needed for the qualification\, 50 rounds is recommended\, 100 rounds will allow you to play more. Dress accordingly\, we will be shooting no matter what the weather. \nShoulder holsters\, ankle holsters or cross draw holsters will NOT be allowed.  A brimmed hat must be worn at the range. \nDo not remove your gun from the holster until you are on the firing line and instructed to do so. \nIf you are shooting a new gun\, please go to YouTube and see how to clean it before the class.  Most of the problems we have at the range are new guns that have not been cleaned. \nIf you load your magazines the night before the class\, it will save time on the range. \nPlease bring your government issued photo ID (IE: driver’s license).  Bring a lunch and water\, you may eat lunch while the class is going. There is no designated lunch break. \nThe class is a minimum of 8 hours and includes shooting and a written test at the end. \nFYI\, foul language will not be tolerated at my house or at the range. \nDon’t forget to bring water\, we live in the desert.
URL:https://bgsnevada.com/class/nevada-ccw-in-pahrump-16/
LOCATION:Blackstone House\, 1451 Gee St\, Pahrump\, NV\, 89060\, United States
END:VEVENT
END:VCALENDAR