BEGIN:VCALENDAR
VERSION:2.0
PRODID:-//Blackstone Gun Safety Nevada - ECPv6.15.20//NONSGML v1.0//EN
CALSCALE:GREGORIAN
METHOD:PUBLISH
X-ORIGINAL-URL:https://bgsnevada.com
X-WR-CALDESC:Events for Blackstone Gun Safety Nevada
REFRESH-INTERVAL;VALUE=DURATION:PT1H
X-Robots-Tag:noindex
X-PUBLISHED-TTL:PT1H
BEGIN:VTIMEZONE
TZID:America/Los_Angeles
BEGIN:DAYLIGHT
TZOFFSETFROM:-0800
TZOFFSETTO:-0700
TZNAME:PDT
DTSTART:20240310T100000
END:DAYLIGHT
BEGIN:STANDARD
TZOFFSETFROM:-0700
TZOFFSETTO:-0800
TZNAME:PST
DTSTART:20241103T090000
END:STANDARD
BEGIN:DAYLIGHT
TZOFFSETFROM:-0800
TZOFFSETTO:-0700
TZNAME:PDT
DTSTART:20250309T100000
END:DAYLIGHT
BEGIN:STANDARD
TZOFFSETFROM:-0700
TZOFFSETTO:-0800
TZNAME:PST
DTSTART:20251102T090000
END:STANDARD
BEGIN:DAYLIGHT
TZOFFSETFROM:-0800
TZOFFSETTO:-0700
TZNAME:PDT
DTSTART:20260308T100000
END:DAYLIGHT
BEGIN:STANDARD
TZOFFSETFROM:-0700
TZOFFSETTO:-0800
TZNAME:PST
DTSTART:20261101T090000
END:STANDARD
END:VTIMEZONE
BEGIN:VEVENT
DTSTART;TZID=America/Los_Angeles:20251101T090000
DTEND;TZID=America/Los_Angeles:20251101T180000
DTSTAMP:20260419T101019
CREATED:20250618T191609Z
LAST-MODIFIED:20250930T145532Z
UID:1613-1761987600-1762020000@bgsnevada.com
SUMMARY:Nevada CCW Class
DESCRIPTION:CLASS IS FULL. \nClass will start at 9:00 AM sharp.  8:30 – 9:00 is check in. The sooner you arrive the better seat you will have. \nNo children are allowed in class. \nPlease make sure you bring your gun unloaded and in your holster\, your holster must cover the trigger and trigger guard. Have a belt that will support your gun and holster. 3 mags would be ideal and a mag holder. Make sure you have hearing protection and safety glasses. 30 rounds of ammo is needed for the qualification\, 50 rounds is recommended\, 100 rounds will allow you to play more. Dress accordingly\, we will be shooting no matter what the weather. \nShoulder holsters\, ankle holsters or cross draw holsters will NOT be allowed.  A brimmed hat must be worn at the range. \nDo not remove your gun from the holster until you are on the firing line and instructed to do so. \nIf you are shooting a new gun\, please go to YouTube and see how to clean it before the class.  Most of the problems we have at the range are new guns that have not been cleaned. \nIf you load your magazines the night before the class\, it will save time on the range. \nPlease bring your government issued photo ID (IE: driver’s license).  Bring a lunch and water\, you may eat lunch while the class is going. There is no designated lunch break. \nThe class is a minimum of 8 hours and includes shooting and a written test at the end. \nRenewals and HR218 need to be at the shooting area on Bell Vista at 11:30 AM. Look for a Jeep pulling a trailer with 7-10 targets set up.  You are not required to attend the morning part of this class or take the written test. \nFYI\, foul language will not be tolerated at my house or at the range. \nDon’t forget to bring water\, we live in the desert.
URL:https://bgsnevada.com/class/nevada-ccw-class-2/
LOCATION:Blackstone House\, 1451 Gee St\, Pahrump\, NV\, 89060\, United States
END:VEVENT
BEGIN:VEVENT
DTSTART;TZID=America/Los_Angeles:20251115T090000
DTEND;TZID=America/Los_Angeles:20251116T153000
DTSTAMP:20260419T101019
CREATED:20250415T175904Z
LAST-MODIFIED:20251008T013010Z
UID:1577-1763197200-1763307000@bgsnevada.com
SUMMARY:2-Day Defensive Handgun Class
DESCRIPTION:CLASS IS FULL \nThis is an outstanding class for the intermediate or advanced shooter. All students must be prepaid to attend this class\, and we only take a limited number of students per class.  All students must be 18 years of age or older\, unless you get preapproval. If you have a responsible child that you would like to shoot next to you\, give us a call\, prior to registration\, for approval. \nCost: This is a $1\,000 value but you only pay $190 for the 2 days. There are NO membership fees or background check fees. We do not operate off of the shoot/coach model\, all students are shooters. We do not tape targets and there is very little lecturing. This class is approximately a 6-hour day and you’ll shoot about 350 rounds per day. 600-800 rounds for the 2 days. We operate with one range master plus 4-line instructors. We only take 20 students per class. \nAll students must bring government issued photo ID\, IE: Driver’s License. \nUpon completion of this course\, you will have a fundamental understanding of the use of your handgun. Among the many skills you acquire will be the ability to safely and easily present your weapon from the holster and fire the necessary number of shots to the center of a target 5 yards away in under 3 seconds! Most gun fights are at 9 feet and everybody misses. That is sad and we want you to learn to not miss. \nDrills include but not limited to: Loading and Unloading; Grip\, Stance\, Sight Picture\, Sight Alignment\, and Trigger Control; Presentation from the Ready position\, the High Safe and the Holster; Target Engagement from Arm’s Length to 10 yards under Time Pressure; Malfunction Clearing; Emergency and Tactical Reloading. We will be shooting and moving\, shooting and backing up and turning and shooting. \nFirearm\, Equipment and Ammo Requirements: \nHolsters must be on the belt\, OWB\, correctly fitted to the weapon\, completely covering the trigger guard and remain open when the weapon is removed\, not allowing the weapon to cover the shooter’s body. Cross-draw\, shoulder holsters or ankle holsters are not allowed. It would be a good idea to bring a backup gun\, in case yours fails. \nA minimum of three magazines (recommend 4-6) and two single or one double magazine pouch worn on the belt on the side opposite the handgun are required. Speed loader holders for revolvers can be worn on your belt in the front. This will be a tough class for a revolver. If you are shooting a low-capacity semi-auto we recommend 6-8 magazines. We have one drill that takes 50 rounds. \nElectronic hearing protection is mandatory. \nA sturdy belt\, hat with brim\, wrap around impact resistant eye protection\, pants with pockets\, comfortable shoes or boots\, etc.  A dump pouch and shooting gloves are recommended. There is no need for knee pads as all shooting is done from standing. There is no need to cover\, it is illegal to carry concealed anywhere in the State of Nevada if you do not possess a CCW honored by Nevada\, including private property. \nWe also recommend sunscreen\, electrolyte drinks (we will have water) and snacks.  We will have a short lunch break so bring a sack lunch. \nAmmunition Requirements: 9mm\, .357 SIG\, .40 S&W\, 10mm\, .45 ACP\, .38 Special\, .357 mag\, .380. Estimated round count 600-800 rounds. Yes\, we will be shooting a bunch. Bring 1000 rounds and you’ll go home with some\, or we will store it for you until the next class. \nFYI: Foul language will not be tolerated. \nIf you are unable to sign up here\, give us a call 775-990-9393.
URL:https://bgsnevada.com/class/2-day-defensive-handgun-class-6/
LOCATION:Gravel Pit in Pahrump\, One mile east on Wheeler Road and HWY 160
END:VEVENT
END:VCALENDAR